BEGIN:VCALENDAR
VERSION:2.0
PRODID:-//hacksw/handcal//NONSGML v1.0//EN
CALSCALE:GREGORIAN
X-WR-TIMEZONE:Europe/Paris
BEGIN:VEVENT
LOCATION:
SUMMARY:Wenn Führungskräfte aus der Reihe tanzen – Krisenkommunikation unter Druck
DESCRIPTION:Krisen zeigen unbarmherzig\, wie gut Führung und Kommunikation wirklich funktionieren. Sereina Schmidt zeigt\, wie Kommunikationsprofis unter Druck die Kontrolle behalten und Führungsgremien zu souveränem Handeln befähigen.
DTSTART:20260616T101500Z
DTEND:20260616T111500Z
DTSTAMP:20260423T115431Z
UID:69ea087755613
END:VEVENT
END:VCALENDAR